BEGIN:VCALENDAR
VERSION:2.0
PRODID:-//STUNITED - ECPv6.15.20//NONSGML v1.0//EN
CALSCALE:GREGORIAN
METHOD:PUBLISH
X-ORIGINAL-URL:https://www.stunited.org
X-WR-CALDESC:Events for STUNITED
REFRESH-INTERVAL;VALUE=DURATION:PT1H
X-Robots-Tag:noindex
X-PUBLISHED-TTL:PT1H
BEGIN:VTIMEZONE
TZID:Europe/London
BEGIN:DAYLIGHT
TZOFFSETFROM:+0000
TZOFFSETTO:+0100
TZNAME:BST
DTSTART:20210328T010000
END:DAYLIGHT
BEGIN:STANDARD
TZOFFSETFROM:+0100
TZOFFSETTO:+0000
TZNAME:GMT
DTSTART:20211031T010000
END:STANDARD
BEGIN:DAYLIGHT
TZOFFSETFROM:+0000
TZOFFSETTO:+0100
TZNAME:BST
DTSTART:20220327T010000
END:DAYLIGHT
BEGIN:STANDARD
TZOFFSETFROM:+0100
TZOFFSETTO:+0000
TZNAME:GMT
DTSTART:20221030T010000
END:STANDARD
BEGIN:DAYLIGHT
TZOFFSETFROM:+0000
TZOFFSETTO:+0100
TZNAME:BST
DTSTART:20230326T010000
END:DAYLIGHT
BEGIN:STANDARD
TZOFFSETFROM:+0100
TZOFFSETTO:+0000
TZNAME:GMT
DTSTART:20231029T010000
END:STANDARD
END:VTIMEZONE
BEGIN:VEVENT
DTSTART;TZID=Europe/London:20221223T180000
DTEND;TZID=Europe/London:20221223T180000
DTSTAMP:20260419T142929
CREATED:20221220T105751Z
LAST-MODIFIED:20221221T103847Z
UID:6105-1671818400-1671818400@www.stunited.org
SUMMARY:End of the year Youth dinner
DESCRIPTION:We are warmly inviting you to Vinecity first end of the year youth dinner!! \n\n\n\nDate and time: Fri\, 23 Dec 2022\, 18:00 GMT \n\nLocation: Mount Olive Evangelical Ministry Kingsfield Close #Unit 3 Northampton NN5 7QN United Kingdom \n\nRefund Policy: Contact the organiser to request a refund. Eventbrite’s fee is nonrefundable. \n  \n\n 
URL:https://www.stunited.org/event/end-of-the-year-youth-dinner/
LOCATION:Mount Olive Evangelical Ministry Kingsfield Close #Unit 3 Northampton NN5 7QN United Kingdom\, Mount Olive Evangelical Ministry Kingsfield Close\, Unit 3 Northampton\, Northampton\, NN5 7QN\, United Kingdom
CATEGORIES:youth dinner
ATTACH;FMTTYPE=image/webp:https://www.stunited.org/wp-content/uploads/2022/12/group-friends-having-fun-bbq-dinner-garden-restaurant-multiracial-people-cheering-red-wine-sitting-outside-bar-table-social-gathering-youth-beverage-lifestyle-concept_169160-976.webp
END:VEVENT
END:VCALENDAR